BEGIN:VCALENDAR
VERSION:2.0
PRODID:-//wp-events-plugin.com//7.2.3.1//EN
TZID:Europe/Berlin
X-WR-TIMEZONE:Europe/Berlin
BEGIN:VEVENT
UID:93@bs3sr.de
DTSTART;TZID=Europe/Berlin:20230301T080000
DTEND;TZID=Europe/Berlin:20230301T150000
DTSTAMP:20230116T151045Z
URL:https://www.bs3sr.de/veranstaltungen/zwischenpruefung-florist-floristi
 n/
SUMMARY:Zwischenprüfung Florist/Floristin
DESCRIPTION:Zwischenprüfung Florist/Floristin
CATEGORIES:Termine Floristik
END:VEVENT
BEGIN:VTIMEZONE
TZID:Europe/Berlin
X-LIC-LOCATION:Europe/Berlin
BEGIN:STANDARD
DTSTART:20221030T020000
TZOFFSETFROM:+0200
TZOFFSETTO:+0100
TZNAME:CET
END:STANDARD
END:VTIMEZONE
END:VCALENDAR